BEGIN:VCALENDAR
VERSION:2.0
PRODID:-//SiP - ECPv5.14.1//NONSGML v1.0//EN
CALSCALE:GREGORIAN
METHOD:PUBLISH
X-WR-CALNAME:SiP
X-ORIGINAL-URL:https://www.sip-graz.at
X-WR-CALDESC:Veranstaltungen für SiP
BEGIN:VTIMEZONE
TZID:Europe/Vienna
BEGIN:DAYLIGHT
TZOFFSETFROM:+0100
TZOFFSETTO:+0200
TZNAME:CEST
DTSTART:20250330T010000
END:DAYLIGHT
BEGIN:STANDARD
TZOFFSETFROM:+0200
TZOFFSETTO:+0100
TZNAME:CET
DTSTART:20251026T010000
END:STANDARD
END:VTIMEZONE
BEGIN:VEVENT
DTSTART;TZID=Europe/Vienna:20250613T120000
DTEND;TZID=Europe/Vienna:20250613T170000
DTSTAMP:20260425T153544
CREATED:20250523T075206Z
LAST-MODIFIED:20250523T075555Z
UID:3575-1749816000-1749834000@www.sip-graz.at
SUMMARY:Flohmarkt 2025
DESCRIPTION:Am 13. Juni 2025 von 12-17 Uhr findet unser SiP-Flohmarkt in der Schule statt. \nHeuer ist keine Standanmeldung erforderlich – kommt gerne einfach vorbei! 🙂 \nBitte bringt eure eigenen Speisen und Getränke mit. Wir freuen uns auch über Kuchenspenden.\nWer möchte\, kann den erzielten Erlös auch gern spenden. \nTische sind selbst mitzubringen bzw. können Tische gerne aus der Schule genommen werden. (Solange der Vorrat reicht.) \nWir freuen uns auf euch – Alle sind herzlich willkommen! 🙂
URL:https://www.sip-graz.at/termin/flohmarkt-2025/
LOCATION:SiP-Schulgelände\, Peifferhofweg 153\, Graz\, Steiermark\, 8045 \, Österreich
END:VEVENT
END:VCALENDAR