BEGIN:VCALENDAR
VERSION:2.0
PRODID:-//SiP - ECPv5.14.1//NONSGML v1.0//EN
CALSCALE:GREGORIAN
METHOD:PUBLISH
X-WR-CALNAME:SiP
X-ORIGINAL-URL:https://www.sip-graz.at
X-WR-CALDESC:Veranstaltungen für SiP
BEGIN:VTIMEZONE
TZID:Europe/Vienna
BEGIN:DAYLIGHT
TZOFFSETFROM:+0100
TZOFFSETTO:+0200
TZNAME:CEST
DTSTART:20230326T010000
END:DAYLIGHT
BEGIN:STANDARD
TZOFFSETFROM:+0200
TZOFFSETTO:+0100
TZNAME:CET
DTSTART:20231029T010000
END:STANDARD
END:VTIMEZONE
BEGIN:VEVENT
DTSTART;TZID=Europe/Vienna:20231005T180000
DTEND;TZID=Europe/Vienna:20231005T200000
DTSTAMP:20260422T102616
CREATED:20230826T143835Z
LAST-MODIFIED:20230826T143939Z
UID:3186-1696528800-1696536000@www.sip-graz.at
SUMMARY:Infoabend
DESCRIPTION:Am Infoabend habt ihr Eltern die Möglichkeit euch über den schulischen Tagesablauf\, das Vereinsleben und das Pädagogische Konzept zu informieren. \nPädagogInnen und ElternvertreterInnen nehmen sich Zeit eure Fragen zu beantworten und ermöglichen einen Einblick in die Schule. \n\nBitte meldet euch unter folgendem Link dazu an\, da wir nur begrenzt Platz haben: https://forms.office.com/e/b4J7eHTUSd \noder nutzt diesen QR-Code:
URL:https://www.sip-graz.at/termin/infoabend/
LOCATION:SiP-Schulgelände\, Peifferhofweg 153\, Graz\, Steiermark\, 8045 \, Österreich
END:VEVENT
END:VCALENDAR